BEGIN:VCALENDAR
VERSION:2.0
PRODID:-//Presentation Knights - ECPv6.15.20//NONSGML v1.0//EN
CALSCALE:GREGORIAN
METHOD:PUBLISH
X-WR-CALNAME:Presentation Knights
X-ORIGINAL-URL:https://presentationknights.org
X-WR-CALDESC:Events for Presentation Knights
REFRESH-INTERVAL;VALUE=DURATION:PT1H
X-Robots-Tag:noindex
X-PUBLISHED-TTL:PT1H
BEGIN:VTIMEZONE
TZID:America/Los_Angeles
BEGIN:DAYLIGHT
TZOFFSETFROM:-0800
TZOFFSETTO:-0700
TZNAME:PDT
DTSTART:20240310T100000
END:DAYLIGHT
BEGIN:STANDARD
TZOFFSETFROM:-0700
TZOFFSETTO:-0800
TZNAME:PST
DTSTART:20241103T090000
END:STANDARD
BEGIN:DAYLIGHT
TZOFFSETFROM:-0800
TZOFFSETTO:-0700
TZNAME:PDT
DTSTART:20250309T100000
END:DAYLIGHT
BEGIN:STANDARD
TZOFFSETFROM:-0700
TZOFFSETTO:-0800
TZNAME:PST
DTSTART:20251102T090000
END:STANDARD
BEGIN:DAYLIGHT
TZOFFSETFROM:-0800
TZOFFSETTO:-0700
TZNAME:PDT
DTSTART:20260308T100000
END:DAYLIGHT
BEGIN:STANDARD
TZOFFSETFROM:-0700
TZOFFSETTO:-0800
TZNAME:PST
DTSTART:20261101T090000
END:STANDARD
END:VTIMEZONE
BEGIN:VEVENT
DTSTART;TZID=America/Los_Angeles:20251215T120000
DTEND;TZID=America/Los_Angeles:20251215T123000
DTSTAMP:20260423T172714
CREATED:20241212T185349Z
LAST-MODIFIED:20251203T224836Z
UID:876-1765800000-1765801800@presentationknights.org
SUMMARY:Coats 4 Kids
DESCRIPTION:The council collects donations\, purchases kid sized coats and delivers them to the Stockton Police Department.  The SPD has a program to distribute the coats to needy children in the Stockton area.  Please join us for the presentation of the coats to the SPD.
URL:https://presentationknights.org/event/coats-4-kids/
LOCATION:Presentation Community Center\, 6715 Leesburg Place\, Stockton\, CA\, 95207\, United States
ORGANIZER;CN="Rick Reineman":MAILTO:rick@reineman.com
END:VEVENT
END:VCALENDAR