BEGIN:VCALENDAR
VERSION:2.0
PRODID:-//Presentation Knights - ECPv6.15.20//NONSGML v1.0//EN
CALSCALE:GREGORIAN
METHOD:PUBLISH
X-WR-CALNAME:Presentation Knights
X-ORIGINAL-URL:https://presentationknights.org
X-WR-CALDESC:Events for Presentation Knights
REFRESH-INTERVAL;VALUE=DURATION:PT1H
X-Robots-Tag:noindex
X-PUBLISHED-TTL:PT1H
BEGIN:VTIMEZONE
TZID:America/Los_Angeles
BEGIN:DAYLIGHT
TZOFFSETFROM:-0800
TZOFFSETTO:-0700
TZNAME:PDT
DTSTART:20250309T100000
END:DAYLIGHT
BEGIN:STANDARD
TZOFFSETFROM:-0700
TZOFFSETTO:-0800
TZNAME:PST
DTSTART:20251102T090000
END:STANDARD
BEGIN:DAYLIGHT
TZOFFSETFROM:-0800
TZOFFSETTO:-0700
TZNAME:PDT
DTSTART:20260308T100000
END:DAYLIGHT
BEGIN:STANDARD
TZOFFSETFROM:-0700
TZOFFSETTO:-0800
TZNAME:PST
DTSTART:20261101T090000
END:STANDARD
BEGIN:DAYLIGHT
TZOFFSETFROM:-0800
TZOFFSETTO:-0700
TZNAME:PDT
DTSTART:20270314T100000
END:DAYLIGHT
BEGIN:STANDARD
TZOFFSETFROM:-0700
TZOFFSETTO:-0800
TZNAME:PST
DTSTART:20271107T090000
END:STANDARD
END:VTIMEZONE
BEGIN:VEVENT
DTSTART;TZID=America/Los_Angeles:20260510T080000
DTEND;TZID=America/Los_Angeles:20260510T113000
DTSTAMP:20260423T121808
CREATED:20230308T210526Z
LAST-MODIFIED:20260322T225211Z
UID:689-1778400000-1778412600@presentationknights.org
SUMMARY:Mothers Day
DESCRIPTION:The council gives flowers to Mothers on Mothers Day.  We typically work in or near the coffee shop and give away flowers until they are gone\, usually after the first two Sunday Masses\, occasionally we make it to the third Mass.  We need help to greet the Moms and hand them a flower.
URL:https://presentationknights.org/event/mothers-day/
LOCATION:Guadalupe Hall\, 6715 Leesburg Pl\, Stockton\, CA\, United States
ORGANIZER;CN="Freddie Vidrio":MAILTO:webmaster@presentationknights.org
END:VEVENT
END:VCALENDAR