BEGIN:VCALENDAR
VERSION:2.0
PRODID:-//Presentation Knights - ECPv6.15.20//NONSGML v1.0//EN
CALSCALE:GREGORIAN
METHOD:PUBLISH
X-WR-CALNAME:Presentation Knights
X-ORIGINAL-URL:https://presentationknights.org
X-WR-CALDESC:Events for Presentation Knights
REFRESH-INTERVAL;VALUE=DURATION:PT1H
X-Robots-Tag:noindex
X-PUBLISHED-TTL:PT1H
BEGIN:VTIMEZONE
TZID:America/Los_Angeles
BEGIN:DAYLIGHT
TZOFFSETFROM:-0800
TZOFFSETTO:-0700
TZNAME:PDT
DTSTART:20250309T100000
END:DAYLIGHT
BEGIN:STANDARD
TZOFFSETFROM:-0700
TZOFFSETTO:-0800
TZNAME:PST
DTSTART:20251102T090000
END:STANDARD
BEGIN:DAYLIGHT
TZOFFSETFROM:-0800
TZOFFSETTO:-0700
TZNAME:PDT
DTSTART:20260308T100000
END:DAYLIGHT
BEGIN:STANDARD
TZOFFSETFROM:-0700
TZOFFSETTO:-0800
TZNAME:PST
DTSTART:20261101T090000
END:STANDARD
BEGIN:DAYLIGHT
TZOFFSETFROM:-0800
TZOFFSETTO:-0700
TZNAME:PDT
DTSTART:20270314T100000
END:DAYLIGHT
BEGIN:STANDARD
TZOFFSETFROM:-0700
TZOFFSETTO:-0800
TZNAME:PST
DTSTART:20271107T090000
END:STANDARD
BEGIN:DAYLIGHT
TZOFFSETFROM:-0800
TZOFFSETTO:-0700
TZNAME:PDT
DTSTART:20280312T100000
END:DAYLIGHT
BEGIN:STANDARD
TZOFFSETFROM:-0700
TZOFFSETTO:-0800
TZNAME:PST
DTSTART:20281105T090000
END:STANDARD
END:VTIMEZONE
BEGIN:VEVENT
DTSTART;TZID=America/Los_Angeles:20260503T080000
DTEND;TZID=America/Los_Angeles:20260503T103000
DTSTAMP:20260423T123038
CREATED:20190614T011046Z
LAST-MODIFIED:20260302T003832Z
UID:22-1777795200-1777804200@presentationknights.org
SUMMARY:Pancake Breakfast
DESCRIPTION:The world famous Knights of Columbus Pancake Breakfast is served after the 7:00AM and 8:45AM Masses.  The cost is $5.00 and children 5 years and under eat for free (Altar servers also eat for free).  There is a raffle with new and exciting prizes every month!  Cash\, check\, credit cards and Apple Pay are accepted.
URL:https://presentationknights.org/event/pancake-breakfast-july/
LOCATION:Guadalupe Hall\, 6715 Leesburg Pl\, Stockton\, CA\, United States
ORGANIZER;CN="Freddie Vidrio":MAILTO:webmaster@presentationknights.org
END:VEVENT
BEGIN:VEVENT
DTSTART;TZID=America/Los_Angeles:20260510T080000
DTEND;TZID=America/Los_Angeles:20260510T113000
DTSTAMP:20260423T123038
CREATED:20230308T210526Z
LAST-MODIFIED:20260322T225211Z
UID:689-1778400000-1778412600@presentationknights.org
SUMMARY:Mothers Day
DESCRIPTION:The council gives flowers to Mothers on Mothers Day.  We typically work in or near the coffee shop and give away flowers until they are gone\, usually after the first two Sunday Masses\, occasionally we make it to the third Mass.  We need help to greet the Moms and hand them a flower.
URL:https://presentationknights.org/event/mothers-day/
LOCATION:Guadalupe Hall\, 6715 Leesburg Pl\, Stockton\, CA\, United States
ORGANIZER;CN="Freddie Vidrio":MAILTO:webmaster@presentationknights.org
END:VEVENT
BEGIN:VEVENT
DTSTART;TZID=America/Los_Angeles:20260513T190000
DTEND;TZID=America/Los_Angeles:20260513T200000
DTSTAMP:20260423T123038
CREATED:20210728T171124Z
LAST-MODIFIED:20260423T142922Z
UID:453-1778698800-1778702400@presentationknights.org
SUMMARY:Council Meeting
DESCRIPTION:The council meets on the second and forth Wednesday of each month at 7:00PM in the St. Joachim meeting room.
URL:https://presentationknights.org/event/council-meeting/
LOCATION:Saint Joachim\, 6715 Leesburg Place\, Stockton\, CA\, 95207\, United States
ORGANIZER;CN="Freddie Vidrio":MAILTO:webmaster@presentationknights.org
END:VEVENT
BEGIN:VEVENT
DTSTART;TZID=America/Los_Angeles:20260530T090000
DTEND;TZID=America/Los_Angeles:20260530T093000
DTSTAMP:20260423T123038
CREATED:20260218T004624Z
LAST-MODIFIED:20260325T223228Z
UID:1001-1780131600-1780133400@presentationknights.org
SUMMARY:Bulletin Stuffing
DESCRIPTION:Bulletin stuffing in the St. Joachim meeting room for an upcoming event.  Many hands make light work so please join us and make this a quick job.
URL:https://presentationknights.org/event/bulletin-stuffing/
LOCATION:Saint Joachim\, 6715 Leesburg Place\, Stockton\, CA\, 95207\, United States
ORGANIZER;CN="Rick Reineman":MAILTO:rick@reineman.com
END:VEVENT
BEGIN:VEVENT
DTSTART;TZID=America/Los_Angeles:20260613T180000
DTEND;TZID=America/Los_Angeles:20260613T210000
DTSTAMP:20260423T123038
CREATED:20220714T185335Z
LAST-MODIFIED:20260325T223410Z
UID:580-1781373600-1781384400@presentationknights.org
SUMMARY:Summer BBQ
DESCRIPTION:The Presentation Knights of Columbus annual Summer BBQ is on Saturday June 13\, 2026 from 6PM until 9PM.\nGrilled Chicken\, German Hot Potato Salad\, Corn on the Cob\, salad and dessert are on the menu. There will also be a no host bar and fabulous raffle prizes. The dinner will be in the Guadalupe Hall at Presentation Church in Stockton California.
URL:https://presentationknights.org/event/summer-bbq/
LOCATION:Guadalupe Hall\, 6715 Leesburg Pl\, Stockton\, CA\, United States
ORGANIZER;CN="Freddie Vidrio":MAILTO:webmaster@presentationknights.org
END:VEVENT
BEGIN:VEVENT
DTSTART;TZID=America/Los_Angeles:20260815T120000
DTEND;TZID=America/Los_Angeles:20260815T180000
DTSTAMP:20260423T123038
CREATED:20200602T072427Z
LAST-MODIFIED:20260325T223536Z
UID:403-1786795200-1786816800@presentationknights.org
SUMMARY:Annual Picnic
DESCRIPTION:The Knights annual picnic is scheduled for Saturday August 15\, 2026  and we would like to invite you\, your family and friends to join us. \nThe council will provide the main course of TBD and also beverages\, soda\, water\, beer\, etc. \nThe picnic will be at TBD The picnic starts at noon for snacks and socializing with food served around 2:00PM. \nWe would like members to contribute a salad\, appetizer\, side dish or dessert. Please contribute according to the first letter of your last name as follows:\nA – F : Appetizers/snacks\nG – L : Salads\nM – R : Side Dishes\nS – Z : Desserts \nThe picnic is free but the park charges a $6.00 fee to enter the park which the council does not cover. \nWe will pass around a collection plate for the Colombian Charities 365 Club
URL:https://presentationknights.org/event/annual-picnic/
LOCATION:Micke Grove Park\, 11793 N MICKE GROVE RD\, lodi\, CA\, 95240\, United States
ORGANIZER;CN="Rick Reineman":MAILTO:rick@reineman.com
END:VEVENT
BEGIN:VEVENT
DTSTART;TZID=America/Los_Angeles:20261010T180000
DTEND;TZID=America/Los_Angeles:20261010T210000
DTSTAMP:20260423T123038
CREATED:20190822T090401Z
LAST-MODIFIED:20260325T223320Z
UID:274-1791655200-1791666000@presentationknights.org
SUMMARY:Spaghetti Dinner
DESCRIPTION:The Presentation Knights of Columbus annual Columbus Day Dinner is on Saturday October 10\, 2026 from 6:00PM until 9:00PM.  Lasagna or Pesto pasta\, dinner rolls\, salad\, antipasti and desert are on the menu. There will also be a no host bar and fabulous raffle prizes. The dinner will be in the Guadalupe Hall at Presentation Church in Stockton California.
URL:https://presentationknights.org/event/pasta-dinner/
LOCATION:Guadalupe Hall\, 6715 Leesburg Pl\, Stockton\, CA\, United States
ORGANIZER;CN="Freddie Vidrio":MAILTO:webmaster@presentationknights.org
END:VEVENT
BEGIN:VEVENT
DTSTART;TZID=America/Los_Angeles:20270116T180000
DTEND;TZID=America/Los_Angeles:20270116T220000
DTSTAMP:20260423T123038
CREATED:20191027T233244Z
LAST-MODIFIED:20260325T223127Z
UID:327-1800122400-1800136800@presentationknights.org
SUMMARY:Crab Feed
DESCRIPTION:The Presentation Knights of Columbus annual Crab Feed is on Saturday January 16\, 2027 from 6:00PM until 10:00PM.  Marinated crab with pasta\, bread\, salad and dessert are on the menu. There will also be a no host bar and fabulous raffle prizes. \nThe dinner will be in the Guadalupe Hall at Presentation Church in Stockton California. \nPlease note that there will be a $10.00 corkage fee for Wine that is brought in\, please alert the host at the door if bringing in your own. This is a fundraiser and the majority of the income is through drink sales and raffles\, we appreciate your understanding.
URL:https://presentationknights.org/event/crab-feed/
LOCATION:Guadalupe Hall\, 6715 Leesburg Pl\, Stockton\, CA\, United States
ORGANIZER;CN="Freddie Vidrio":MAILTO:webmaster@presentationknights.org
END:VEVENT
BEGIN:VEVENT
DTSTART;TZID=America/Los_Angeles:20270320T180000
DTEND;TZID=America/Los_Angeles:20270320T210000
DTSTAMP:20260423T123038
CREATED:20200111T000033Z
LAST-MODIFIED:20260325T223041Z
UID:344-1805565600-1805576400@presentationknights.org
SUMMARY:Corned Beef Dinner
DESCRIPTION:The Presentation Knights of Columbus annual Corned Beef Dinner is on Saturday March 20\, 2027 from 6PM until 9PM.\nCorned Beef\, Potatoes\, Cabbage\, bread\, salad and dessert are on the menu. There will also be a no host bar and fabulous raffle prizes. The dinner will be in the Guadalupe Hall at Presentation Church in Stockton California. \nThere is a $10 corkage fee for wine brought to the event.  This event is a fund raiser and a significant amount of the profit is made from bar sales. The corkage fee includes cork removal and wine glasses.   Your understanding is appreciated.
URL:https://presentationknights.org/event/corned-beef-dinner/
LOCATION:Guadalupe Hall\, 6715 Leesburg Pl\, Stockton\, CA\, United States
ORGANIZER;CN="Rick Reineman":MAILTO:rick@reineman.com
END:VEVENT
END:VCALENDAR