BEGIN:VCALENDAR
VERSION:2.0
PRODID:-//Presentation Knights - ECPv6.15.20//NONSGML v1.0//EN
CALSCALE:GREGORIAN
METHOD:PUBLISH
X-WR-CALNAME:Presentation Knights
X-ORIGINAL-URL:https://presentationknights.org
X-WR-CALDESC:Events for Presentation Knights
REFRESH-INTERVAL;VALUE=DURATION:PT1H
X-Robots-Tag:noindex
X-PUBLISHED-TTL:PT1H
BEGIN:VTIMEZONE
TZID:America/Los_Angeles
BEGIN:DAYLIGHT
TZOFFSETFROM:-0800
TZOFFSETTO:-0700
TZNAME:PDT
DTSTART:20220313T100000
END:DAYLIGHT
BEGIN:STANDARD
TZOFFSETFROM:-0700
TZOFFSETTO:-0800
TZNAME:PST
DTSTART:20221106T090000
END:STANDARD
BEGIN:DAYLIGHT
TZOFFSETFROM:-0800
TZOFFSETTO:-0700
TZNAME:PDT
DTSTART:20230312T100000
END:DAYLIGHT
BEGIN:STANDARD
TZOFFSETFROM:-0700
TZOFFSETTO:-0800
TZNAME:PST
DTSTART:20231105T090000
END:STANDARD
BEGIN:DAYLIGHT
TZOFFSETFROM:-0800
TZOFFSETTO:-0700
TZNAME:PDT
DTSTART:20240310T100000
END:DAYLIGHT
BEGIN:STANDARD
TZOFFSETFROM:-0700
TZOFFSETTO:-0800
TZNAME:PST
DTSTART:20241103T090000
END:STANDARD
END:VTIMEZONE
BEGIN:VEVENT
DTSTART;TZID=America/Los_Angeles:20230311T110000
DTEND;TZID=America/Los_Angeles:20230311T140000
DTSTAMP:20260423T170800
CREATED:20230204T175206Z
LAST-MODIFIED:20230209T185502Z
UID:682-1678532400-1678543200@presentationknights.org
SUMMARY:Church Ministry Event
DESCRIPTION:The council will prepare a hot dog dinner for a Presentation Ministry event (Confirmation Students).  Council members are asked to volunteer to help cook and serve food.
URL:https://presentationknights.org/event/church-ministry-event/
LOCATION:Guadalupe Hall\, 6715 Leesburg Pl\, Stockton\, CA\, United States
ORGANIZER;CN="Freddie Vidrio":MAILTO:webmaster@presentationknights.org
END:VEVENT
BEGIN:VEVENT
DTSTART;TZID=America/Los_Angeles:20230218T090000
DTEND;TZID=America/Los_Angeles:20230218T120000
DTSTAMP:20260423T170800
CREATED:20230204T174245Z
LAST-MODIFIED:20230204T174245Z
UID:676-1676710800-1676721600@presentationknights.org
SUMMARY:Gardening Duty
DESCRIPTION:The Council will help the Church with heavy gardening duties\, typically tree trimming.
URL:https://presentationknights.org/event/gardening-duty/
LOCATION:Saint Joachim\, 6715 Leesburg Place\, Stockton\, CA\, 95207\, United States
ORGANIZER;CN="Freddie Vidrio":MAILTO:webmaster@presentationknights.org
END:VEVENT
END:VCALENDAR