BEGIN:VCALENDAR
VERSION:2.0
PRODID:-//Presentation Knights - ECPv6.15.20//NONSGML v1.0//EN
CALSCALE:GREGORIAN
METHOD:PUBLISH
X-WR-CALNAME:Presentation Knights
X-ORIGINAL-URL:https://presentationknights.org
X-WR-CALDESC:Events for Presentation Knights
REFRESH-INTERVAL;VALUE=DURATION:PT1H
X-Robots-Tag:noindex
X-PUBLISHED-TTL:PT1H
BEGIN:VTIMEZONE
TZID:America/Los_Angeles
BEGIN:DAYLIGHT
TZOFFSETFROM:-0800
TZOFFSETTO:-0700
TZNAME:PDT
DTSTART:20230312T100000
END:DAYLIGHT
BEGIN:STANDARD
TZOFFSETFROM:-0700
TZOFFSETTO:-0800
TZNAME:PST
DTSTART:20231105T090000
END:STANDARD
BEGIN:DAYLIGHT
TZOFFSETFROM:-0800
TZOFFSETTO:-0700
TZNAME:PDT
DTSTART:20240310T100000
END:DAYLIGHT
BEGIN:STANDARD
TZOFFSETFROM:-0700
TZOFFSETTO:-0800
TZNAME:PST
DTSTART:20241103T090000
END:STANDARD
BEGIN:DAYLIGHT
TZOFFSETFROM:-0800
TZOFFSETTO:-0700
TZNAME:PDT
DTSTART:20250309T100000
END:DAYLIGHT
BEGIN:STANDARD
TZOFFSETFROM:-0700
TZOFFSETTO:-0800
TZNAME:PST
DTSTART:20251102T090000
END:STANDARD
END:VTIMEZONE
BEGIN:VEVENT
DTSTART;TZID=America/Los_Angeles:20240406T180000
DTEND;TZID=America/Los_Angeles:20240406T200000
DTSTAMP:20260424T193657
CREATED:20250124T184444Z
LAST-MODIFIED:20250213T151948Z
UID:899-1712426400-1712433600@presentationknights.org
SUMMARY:Lentin Soup Supper
DESCRIPTION:The council will provide the Lentin Soup Supper for Stations of the Cross parishoners.  Please prepare enough meatless soup to fit in a crock pot\, soup cooker or combination pressure cooker.  Deliver to the Guadalupe Hall no later than 6:15PM and include utensils for serving. \nThe council will provide bowls\, spoons\, etc.
URL:https://presentationknights.org/event/lentin-soup-supper/
LOCATION:Guadalupe Hall\, 6715 Leesburg Pl\, Stockton\, CA\, United States
ORGANIZER;CN="Freddie Vidrio":MAILTO:webmaster@presentationknights.org
END:VEVENT
END:VCALENDAR